BEGIN:VCALENDAR
VERSION:2.0
PRODID:-//Adana&#039;da Çocuk Olmak ® - ECPv5.16.0//NONSGML v1.0//EN
CALSCALE:GREGORIAN
METHOD:PUBLISH
X-WR-CALNAME:Adana&#039;da Çocuk Olmak ®
X-ORIGINAL-URL:https://www.adanadacocukolmak.com
X-WR-CALDESC:Adana&#039;da Çocuk Olmak ® için etkinlikler
BEGIN:VTIMEZONE
TZID:Europe/Moscow
BEGIN:STANDARD
TZOFFSETFROM:+0300
TZOFFSETTO:+0300
TZNAME:MSK
DTSTART:20190101T000000
END:STANDARD
END:VTIMEZONE
BEGIN:VEVENT
DTSTART;TZID=Europe/Moscow:20190309T140000
DTEND;TZID=Europe/Moscow:20190309T140000
DTSTAMP:20260422T114255
CREATED:20190309T044744Z
LAST-MODIFIED:20190309T044744Z
UID:10046-1552140000-1552140000@www.adanadacocukolmak.com
SUMMARY:Ahşap Atölyesi
DESCRIPTION:4 yaş üstü \nOyun Avcıları Adana’da ahşap atölyesi var. \nSaat: 14:00 \nGitmeden rezervasyon için arayınız: 0549 548 34 35
URL:https://www.adanadacocukolmak.com/etkinlik/ahsap-atolyesi-3-2/
LOCATION:Oyun Avcıları\, Alparslan Türkeş Bulv. 206 A Yurt Mah. Dörtler Mah. Seyhan\, Adana
CATEGORIES:Atölye
ATTACH;FMTTYPE=image/jpeg:https://www.adanadacocukolmak.com/wp-content/uploads/2019/01/EAD3064D-F1E7-4F62-A9C7-B2D4D8F28417.jpeg
END:VEVENT
END:VCALENDAR