BEGIN:VCALENDAR
VERSION:2.0
PRODID:-//Adana&#039;da Çocuk Olmak ® - ECPv5.16.0//NONSGML v1.0//EN
CALSCALE:GREGORIAN
METHOD:PUBLISH
X-WR-CALNAME:Adana&#039;da Çocuk Olmak ®
X-ORIGINAL-URL:https://www.adanadacocukolmak.com
X-WR-CALDESC:Adana&#039;da Çocuk Olmak ® için etkinlikler
BEGIN:VTIMEZONE
TZID:Europe/Moscow
BEGIN:STANDARD
TZOFFSETFROM:+0300
TZOFFSETTO:+0300
TZNAME:MSK
DTSTART:20190101T000000
END:STANDARD
END:VTIMEZONE
BEGIN:VEVENT
DTSTART;TZID=Europe/Moscow:20190510T110000
DTEND;TZID=Europe/Moscow:20190510T110000
DTSTAMP:20260425T221150
CREATED:20190509T050015Z
LAST-MODIFIED:20190509T050015Z
UID:10739-1557486000-1557486000@www.adanadacocukolmak.com
SUMMARY:Anne Bebek Buluşmaları
DESCRIPTION:Bebelac çocuk devam sütleri ile Anne-Bebek buluşmalarının ilk durağı Adana!  \nDr.Ender Saraç ve Yazar Ömür Kurt’un gerçekleştireceği “Bebeklerin bilişsel ve sosyal gelişiminde beslenmenin önemi” konulu söyleşi 10 Mayıs Cuma Saat 11:00’de Seyhan Belediyesi Yaşar Kemal Kültür Merkezi’nde gerçekleşecektir. \nDeğerli bilgilerin ve süpriz hediyelerin olduğu bu buluşmayı kaçırmayın \nSeminer ÜCRETSİZDİR.
URL:https://www.adanadacocukolmak.com/etkinlik/anne-bebek-bulusmalari/
LOCATION:Seyhan Belediyesi Yaşar Kemal Kültür Merkezi\, Adana\, Türkiye
CATEGORIES:Seminer
ATTACH;FMTTYPE=image/jpeg:https://www.adanadacocukolmak.com/wp-content/uploads/2019/05/5B6F620D-CA4E-4028-B8D4-B84987F25A6B.jpeg
END:VEVENT
END:VCALENDAR