BEGIN:VCALENDAR
VERSION:2.0
PRODID:-//Adana&#039;da Çocuk Olmak ® - ECPv5.16.0//NONSGML v1.0//EN
CALSCALE:GREGORIAN
METHOD:PUBLISH
X-WR-CALNAME:Adana&#039;da Çocuk Olmak ®
X-ORIGINAL-URL:https://www.adanadacocukolmak.com
X-WR-CALDESC:Adana&#039;da Çocuk Olmak ® için etkinlikler
BEGIN:VTIMEZONE
TZID:Europe/Moscow
BEGIN:STANDARD
TZOFFSETFROM:+0300
TZOFFSETTO:+0300
TZNAME:MSK
DTSTART:20190101T000000
END:STANDARD
END:VTIMEZONE
BEGIN:VEVENT
DTSTART;TZID=Europe/Moscow:20190803T090000
DTEND;TZID=Europe/Moscow:20190803T090000
DTSTAMP:20260422T212424
CREATED:20190802T123203Z
LAST-MODIFIED:20190802T123626Z
UID:11697-1564822800-1564822800@www.adanadacocukolmak.com
SUMMARY:Çocuklara Sınır Koyma Eğitimi
DESCRIPTION:Çağdaş Psikoloji Uygulamaları Merkezi Psikolog Hasret Uğur Varol eşliğinde 3 Ağustos Cumartesi Saat 9:00’da ebeveynler için “Çocuklara Sınır Koyma Eğitimi” düzenliyor. \nİletişim: 0322 503 55 52
URL:https://www.adanadacocukolmak.com/etkinlik/cocuklara-sinir-koyma-egitimi/
LOCATION:Çağdaş Psikoloji Uygulamaları Eğitim ve Danışmanlık Merkezi\, Kurtuluş Mah. Ziyapaşa Blv. Ali Şadibey Apt. No:12 A Blok Kat:3 Seyhan\, Adana
CATEGORIES:Seminer
ATTACH;FMTTYPE=image/jpeg:https://www.adanadacocukolmak.com/wp-content/uploads/2019/08/7B9A130A-3B3D-48BB-8893-5B034FC0298B.jpeg
END:VEVENT
END:VCALENDAR