BEGIN:VCALENDAR
VERSION:2.0
PRODID:-//Adana&#039;da Çocuk Olmak ® - ECPv5.16.0//NONSGML v1.0//EN
CALSCALE:GREGORIAN
METHOD:PUBLISH
X-WR-CALNAME:Adana&#039;da Çocuk Olmak ®
X-ORIGINAL-URL:https://www.adanadacocukolmak.com
X-WR-CALDESC:Adana&#039;da Çocuk Olmak ® için etkinlikler
BEGIN:VTIMEZONE
TZID:Europe/Moscow
BEGIN:STANDARD
TZOFFSETFROM:+0300
TZOFFSETTO:+0300
TZNAME:MSK
DTSTART:20180101T000000
END:STANDARD
END:VTIMEZONE
BEGIN:VEVENT
DTSTART;TZID=Europe/Moscow:20181208T110000
DTEND;TZID=Europe/Moscow:20181208T120000
DTSTAMP:20260422T135602
CREATED:20181206T184354Z
LAST-MODIFIED:20181206T212224Z
UID:8719-1544266800-1544270400@www.adanadacocukolmak.com
SUMMARY:Dede Korkut Kitabı
DESCRIPTION:9-12 Yaş \nDede Korkut Destanı… Trüklerin bilinen ilk destanı… Nurdan Özgür’ün yazdığı oyun\, Rasim Aşın yönetiminde 9 Aralık 2014’de Adana Büyükşehir Belediyesi Tiyatro Salonunda prömiyerini yaptı. Oyun 10-12 yaş grubuna yönelik\, Türk Kültür ve geleneklerinin yansıltıldığı; güç ve akıl ana teması etrafında aile bağları\, Türk toplumunda kadınların önemi ve işbirliğinin öneminin vurgulandığı “Dede Korkut Kitabı” adlı oyun beğeniyle izleniyor. \n“Her yaş grubu kendine uygun oyun izlenmeli” düşüncesiyle pedagojik ve psikolojik danışman kontorlünde 10-12 yaş grubu için sahnelenen oyun bu özellikleriyle Türkiye’de örnek bir uygulamayı temsil ediyor. \nBildiğimiz oyun formatlarından ziyade daha çok ‘Anıtsal Oyun’ niteliğinde olan oyunda oyundaki kişi fazlalığından dolayı\, sahneyi daha sade kullanmak için ve estetik sunumu daha kaliteli kılmak için kuklalar kullanılmış. her bir oyuncu birkaç kukla ile oyun kişilerini canlandırarak estetik yelpazeyi daha da genişletiyor. \nÜcretsizdir.  \nGişeden davetiye alabilirsiniz. \nTelefon (gişe) : 0322 455 35 50 / 0322 455 39 64 \nGişe Çalışma Saatleri ve Günleri: \nPazartesi\, Salı\, Çarşamba \,Perşembe\, Cumartesi \n10:00 – 12:00 / 12:00 -14:00 / 14:00 – 19:00  \nCuma ve Pazar günü gişe kapalıdır.  \n 
URL:https://www.adanadacocukolmak.com/etkinlik/dede-korkut-kitabi-3/
LOCATION:Adana Büyükşehir Belediyesi Tiyatro Salonu\, Reşatbey Mahallesi\, Atatürk Cd. No:1\, 01120 Seyhan\, Adana\, Türkiye
CATEGORIES:Tiyatro
ATTACH;FMTTYPE=image/jpeg:https://www.adanadacocukolmak.com/wp-content/uploads/2018/04/5DB07931-3670-4478-A17F-F413397C9FB7.jpeg
END:VEVENT
END:VCALENDAR