BEGIN:VCALENDAR
VERSION:2.0
PRODID:-//Adana&#039;da Çocuk Olmak ® - ECPv5.16.0//NONSGML v1.0//EN
CALSCALE:GREGORIAN
METHOD:PUBLISH
X-WR-CALNAME:Adana&#039;da Çocuk Olmak ®
X-ORIGINAL-URL:https://www.adanadacocukolmak.com
X-WR-CALDESC:Adana&#039;da Çocuk Olmak ® için etkinlikler
BEGIN:VTIMEZONE
TZID:Europe/Moscow
BEGIN:STANDARD
TZOFFSETFROM:+0300
TZOFFSETTO:+0300
TZNAME:MSK
DTSTART:20190101T000000
END:STANDARD
END:VTIMEZONE
BEGIN:VEVENT
DTSTART;VALUE=DATE:20190809
DTEND;VALUE=DATE:20190830
DTSTAMP:20260422T213313
CREATED:20190816T202303Z
LAST-MODIFIED:20190823T180308Z
UID:11766-1565308800-1567123199@www.adanadacocukolmak.com
SUMMARY:Dora ve Kayıp Altın Şehri
DESCRIPTION:Optimum Avşar Sinemaları \nHayatının çoğunu ailesi ile birlikte ormanı keşfettikten sonra\, hiçbir şey Dora’yı (Isabela Moner) hayatının en tehlikeli macerası için hazırlayamaz: Lise! Her zaman bir kaşif olan Dora\, ebeveynlerini kurtarmak için çıktığı canlı bir macerada\, kendini bir anda Boots (en yakın arkadaşı olan bir maymun)\, Diego (Jeff Wahlberg)\, gizemli bir orman sakini (Eugenio Derbez) ve bir grup gence öncülük ederken bulur ve kayıp altın şehrin arkasındaki imkansız gizemi çözer.
URL:https://www.adanadacocukolmak.com/etkinlik/dora-ve-kayip-altin-sehri/
CATEGORIES:Sinema
ATTACH;FMTTYPE=image/jpeg:https://www.adanadacocukolmak.com/wp-content/uploads/2019/08/4A5238B9-A238-4C46-814E-6647BBDB3A27.jpeg
END:VEVENT
END:VCALENDAR