BEGIN:VCALENDAR
VERSION:2.0
PRODID:-//Adana&#039;da Çocuk Olmak ® - ECPv5.16.0//NONSGML v1.0//EN
CALSCALE:GREGORIAN
METHOD:PUBLISH
X-WR-CALNAME:Adana&#039;da Çocuk Olmak ®
X-ORIGINAL-URL:https://www.adanadacocukolmak.com
X-WR-CALDESC:Adana&#039;da Çocuk Olmak ® için etkinlikler
BEGIN:VTIMEZONE
TZID:Europe/Moscow
BEGIN:STANDARD
TZOFFSETFROM:+0300
TZOFFSETTO:+0300
TZNAME:MSK
DTSTART:20190101T000000
END:STANDARD
END:VTIMEZONE
BEGIN:VEVENT
DTSTART;TZID=Europe/Moscow:20190824T130000
DTEND;TZID=Europe/Moscow:20190824T130000
DTSTAMP:20260422T212235
CREATED:20190822T195229Z
LAST-MODIFIED:20190822T195452Z
UID:11784-1566651600-1566651600@www.adanadacocukolmak.com
SUMMARY:Kurabiye Etkinliği
DESCRIPTION:4 yaş üstü \nKurabiye etkinliği Cumartesi günü 4 Mevsim Kids Cafe ‘de. 13:00-14:00 arası \nRezervasyon: 0536 367 65 50
URL:https://www.adanadacocukolmak.com/etkinlik/kurabiye-etkinligi-3/
LOCATION:4 Mevsim Kids Cafe\, Huzurevleri mah. Turgut Özal Blv. Kubilay apt. No:198/C Çukurova\, Adana
CATEGORIES:Atölye
ATTACH;FMTTYPE=image/jpeg:https://www.adanadacocukolmak.com/wp-content/uploads/2019/08/2E17A2D0-5F97-4B64-9AC0-4D9D7B85B2AA.jpeg
END:VEVENT
END:VCALENDAR