BEGIN:VCALENDAR
VERSION:2.0
PRODID:-//Adana&#039;da Çocuk Olmak ® - ECPv5.16.0//NONSGML v1.0//EN
CALSCALE:GREGORIAN
METHOD:PUBLISH
X-WR-CALNAME:Adana&#039;da Çocuk Olmak ®
X-ORIGINAL-URL:https://www.adanadacocukolmak.com
X-WR-CALDESC:Adana&#039;da Çocuk Olmak ® için etkinlikler
BEGIN:VTIMEZONE
TZID:Europe/Moscow
BEGIN:STANDARD
TZOFFSETFROM:+0300
TZOFFSETTO:+0300
TZNAME:MSK
DTSTART:20190101T000000
END:STANDARD
END:VTIMEZONE
BEGIN:VEVENT
DTSTART;TZID=Europe/Moscow:20190323T133000
DTEND;TZID=Europe/Moscow:20190323T133000
DTSTAMP:20260422T120520
CREATED:20190320T084151Z
LAST-MODIFIED:20190320T084151Z
UID:10179-1553347800-1553347800@www.adanadacocukolmak.com
SUMMARY:Neşeli Balıklar Atölyesi
DESCRIPTION:Anı sanat’ta bu hafta çocuklar Neşeli Balıklar atölyesinde ahşap boyama yapıyor. \nBalıklarını çerçeveletip evlerine hazır götürüyorlar. \nDetaylı bilgi ve kayıt: 0530 666 96 60
URL:https://www.adanadacocukolmak.com/etkinlik/neseli-baliklar-atolyesi-2/
LOCATION:Anı Sanat\, Pandora Sokağı Arkası. Fesleğence yanı. Anıt apt. Zemin Kat\, Adana
CATEGORIES:Atölye
ATTACH;FMTTYPE=image/jpeg:https://www.adanadacocukolmak.com/wp-content/uploads/2019/03/F0164EB9-961A-423A-AA77-0B2B817B0AB1.jpeg
END:VEVENT
END:VCALENDAR