BEGIN:VCALENDAR
VERSION:2.0
PRODID:-//Adana&#039;da Çocuk Olmak ® - ECPv5.16.0//NONSGML v1.0//EN
CALSCALE:GREGORIAN
METHOD:PUBLISH
X-WR-CALNAME:Adana&#039;da Çocuk Olmak ®
X-ORIGINAL-URL:https://www.adanadacocukolmak.com
X-WR-CALDESC:Adana&#039;da Çocuk Olmak ® için etkinlikler
BEGIN:VTIMEZONE
TZID:Europe/Moscow
BEGIN:STANDARD
TZOFFSETFROM:+0300
TZOFFSETTO:+0300
TZNAME:MSK
DTSTART:20180101T000000
END:STANDARD
END:VTIMEZONE
BEGIN:VEVENT
DTSTART;TZID=Europe/Moscow:20181215T123000
DTEND;TZID=Europe/Moscow:20181215T140000
DTSTAMP:20260422T182522
CREATED:20181210T192435Z
LAST-MODIFIED:20181211T060026Z
UID:8760-1544877000-1544882400@www.adanadacocukolmak.com
SUMMARY:Seramik Atölyesi
DESCRIPTION:7-12 Yaş \nÇocuklar Anı Sanat’ta seramikten yılbaşı ağacı yapıyorlar. Etkinliğin ilk haftasında hamura şekil veriliyor\, bir buçuk hafta kuruma süresi var. Kuruma işlemi bitince size haber veriyorlar\, fırınlama işleminden sonra siz gelip boyamasını yapıyorsunuz. \nEtkinliğin toplam ücreti 100 TL \nBilgi ve rezervasyon: 0530 666 96 60
URL:https://www.adanadacocukolmak.com/etkinlik/seramik-atolyesi-4/
LOCATION:Anı Sanat\, Pandora Sokağı Arkası. Fesleğence yanı. Anıt apt. Zemin Kat\, Adana
CATEGORIES:Atölye
ATTACH;FMTTYPE=image/jpeg:https://www.adanadacocukolmak.com/wp-content/uploads/2018/12/C972F9DA-4929-4234-A230-25FC525FF99D.jpeg
END:VEVENT
END:VCALENDAR