BEGIN:VCALENDAR
VERSION:2.0
PRODID:-//Adana&#039;da Çocuk Olmak ® - ECPv5.16.0//NONSGML v1.0//EN
CALSCALE:GREGORIAN
METHOD:PUBLISH
X-WR-CALNAME:Adana&#039;da Çocuk Olmak ®
X-ORIGINAL-URL:https://www.adanadacocukolmak.com
X-WR-CALDESC:Adana&#039;da Çocuk Olmak ® için etkinlikler
BEGIN:VTIMEZONE
TZID:Europe/Moscow
BEGIN:STANDARD
TZOFFSETFROM:+0300
TZOFFSETTO:+0300
TZNAME:MSK
DTSTART:20190101T000000
END:STANDARD
END:VTIMEZONE
BEGIN:VEVENT
DTSTART;TZID=Europe/Moscow:20190303T110000
DTEND;TZID=Europe/Moscow:20190303T140000
DTSTAMP:20260423T193631
CREATED:20190301T094021Z
LAST-MODIFIED:20190301T094021Z
UID:9978-1551610800-1551621600@www.adanadacocukolmak.com
SUMMARY:Taş Boyama ve Kaktüs Atölyesi
DESCRIPTION:3 Mart Cumartesi @serapin_tas_sanati ile ebeveyn çocuk taş boyama ve kaktüs atölyesi Go Ofis’te. \nSeanslar 11:00 ve 14:00 \nİletişim: @handemadeworkshop
URL:https://www.adanadacocukolmak.com/etkinlik/tas-boyama-ve-kaktus-atolyesi/
LOCATION:Go Ofis\, Türkmenbaşı Blv. 77113 sok. 26/1 Adana (Turgut Özal Blv tarafına giderken\, Mavi Blv biraz geçince sağda)\, Adana\, Türkiye
CATEGORIES:Atölye
ATTACH;FMTTYPE=image/jpeg:https://www.adanadacocukolmak.com/wp-content/uploads/2019/03/47288F8A-C004-46C2-9F5C-46A1671C2268.jpeg
END:VEVENT
END:VCALENDAR