BEGIN:VCALENDAR
VERSION:2.0
PRODID:-//Adana&#039;da Çocuk Olmak ® - ECPv5.16.0//NONSGML v1.0//EN
CALSCALE:GREGORIAN
METHOD:PUBLISH
X-WR-CALNAME:Adana&#039;da Çocuk Olmak ®
X-ORIGINAL-URL:https://www.adanadacocukolmak.com
X-WR-CALDESC:Adana&#039;da Çocuk Olmak ® için etkinlikler
BEGIN:VTIMEZONE
TZID:Europe/Moscow
BEGIN:STANDARD
TZOFFSETFROM:+0300
TZOFFSETTO:+0300
TZNAME:MSK
DTSTART:20190101T000000
END:STANDARD
END:VTIMEZONE
BEGIN:VEVENT
DTSTART;TZID=Europe/Moscow:20190113T130000
DTEND;TZID=Europe/Moscow:20190113T140000
DTSTAMP:20260422T120755
CREATED:20190101T180958Z
LAST-MODIFIED:20190101T203737Z
UID:9151-1547384400-1547388000@www.adanadacocukolmak.com
SUMMARY:Taş Devri Maceraları
DESCRIPTION:13 Ocak Pazar Saat 13:00’de müzikli çocuk oyunu “Taş Devri Maceraları” Adana Büyükşehir Belediyesi Tiyatro Salonunda. \nBiletler biletixte ve etkinlik günü gişede. \nBilgi için: 0544 298 18 58 / 0322 453 00 69
URL:https://www.adanadacocukolmak.com/etkinlik/tas-devri-maceralari/
LOCATION:Adana Büyükşehir Belediyesi Tiyatro Salonu\, Reşatbey Mahallesi\, Atatürk Cd. No:1\, 01120 Seyhan\, Adana\, Türkiye
CATEGORIES:Tiyatro
ATTACH;FMTTYPE=image/jpeg:https://www.adanadacocukolmak.com/wp-content/uploads/2019/01/D97AD865-D906-4263-BC7C-A2FDDEDD4371.jpeg
END:VEVENT
END:VCALENDAR