BEGIN:VCALENDAR
VERSION:2.0
PRODID:-//Adana&#039;da Çocuk Olmak ® - ECPv5.16.0//NONSGML v1.0//EN
CALSCALE:GREGORIAN
METHOD:PUBLISH
X-WR-CALNAME:Adana&#039;da Çocuk Olmak ®
X-ORIGINAL-URL:https://www.adanadacocukolmak.com
X-WR-CALDESC:Adana&#039;da Çocuk Olmak ® için etkinlikler
BEGIN:VTIMEZONE
TZID:Europe/Moscow
BEGIN:STANDARD
TZOFFSETFROM:+0300
TZOFFSETTO:+0300
TZNAME:MSK
DTSTART:20180101T000000
END:STANDARD
END:VTIMEZONE
BEGIN:VEVENT
DTSTART;TZID=Europe/Moscow:20181215T110000
DTEND;TZID=Europe/Moscow:20181216T120000
DTSTAMP:20260422T201153
CREATED:20181214T153624Z
LAST-MODIFIED:20181214T153624Z
UID:8840-1544871600-1544961600@www.adanadacocukolmak.com
SUMMARY:Toprak Atölyesi
DESCRIPTION:Oyun Avcıları Adana’da çocuklar bir saat boyunca doyasıya toprakla oynadıktan sonra kendi fidelerini ekip evde kendi bitkilerini yetiştirmenin sorumluluğunu alacaklar. \n15-16 Aralik Cumartesi – Pazar  \nSaat 11.00 \nEtkinlik ucreti 15tl \nRezarvasyon yaptirmayi unutmayiniz. \nYaş sinirlamamiz yoktur. Toprakla oynamak isteyen herkes katilabilir. 
URL:https://www.adanadacocukolmak.com/etkinlik/toprak-atolyesi/
LOCATION:Oyun Avcıları\, Alparslan Türkeş Bulv. 206 A Yurt Mah. Dörtler Mah. Seyhan\, Adana
CATEGORIES:Atölye
ATTACH;FMTTYPE=image/jpeg:https://www.adanadacocukolmak.com/wp-content/uploads/2018/12/D1FA07AB-BD6A-480B-9420-9B3D064E9F09.jpeg
END:VEVENT
END:VCALENDAR